BEGIN:VCALENDAR
METHOD:PUBLISH
X-WR-TIMEZONE:America/Denver
PRODID:-//Hold My Ticket.//HMT Web App//EN
CALSCALE:GREGORIAN
METHOD:PUBLISH
X-WR-CALNAME:Lobo Theater
X-WR-CALDESC:Upcoming events at Lobo Theater
BEGIN:VTIMEZONE
TZID:America/Denver 
END:VTIMEZONE
BEGIN:VEVENT
SEQUENCE:2
TRANSP:OPAQUE
UID:fef3d294eab7045f92d44c0d53ec21f1
DTSTART:20241215T180000
DTSTAMP:20241104T111118Z
SUMMARY:Rock 101 FALL Band League 2024
DESCRIPTION:Prepare for an electrifying musical showdown at Rock 101 Music Academy's FALL 2024 Band League Battle of the Bands! Eleven youth bands have dedicated the past 12 weeks to honing their craft and are now poised to hit the stage at the iconic Lobo Theater. Join us for a night of raw talent, dynamic performances, and a celebration of the next generation of Albuquerque musicians. Secure your tickets now for an unforgettable evening of music at the forefront of the local youth music scene!
CREATED:20241104T111118Z
URL;VALUE=URI:http://holdmyticket.com/event/440484 

DTEND:20241215T210000
END:VEVENT
END:VCALENDAR