BEGIN:VCALENDAR
METHOD:PUBLISH
X-WR-TIMEZONE:America/Chicago
PRODID:-//Hold My Ticket.//HMT Web App//EN
CALSCALE:GREGORIAN
METHOD:PUBLISH
X-WR-CALNAME:Whiskey River Country
X-WR-CALDESC:Upcoming events at Whiskey River Country
BEGIN:VTIMEZONE
TZID:America/Chicago 
END:VTIMEZONE
BEGIN:VEVENT
SEQUENCE:2
TRANSP:OPAQUE
UID:e3b04f3b0afadcb1dd4e07ff35adc5bf
DTSTART:20241114T210000
DTSTAMP:20241108T081936Z
SUMMARY:**NEW ** Thursday Night KARAOKE @ Whiskey River County
DESCRIPTION:
CREATED:20241108T081936Z
URL;VALUE=URI:http://holdmyticket.com/event/440664 

DTEND:20241115T020000
END:VEVENT
END:VCALENDAR