BEGIN:VCALENDAR
METHOD:PUBLISH
X-WR-TIMEZONE:America/Denver
PRODID:-//Hold My Ticket.//HMT Web App//EN
CALSCALE:GREGORIAN
METHOD:PUBLISH
X-WR-CALNAME:EL REY THEATER
X-WR-CALDESC:Upcoming events at EL REY THEATER
BEGIN:VTIMEZONE
TZID:America/Denver 
END:VTIMEZONE
BEGIN:VEVENT
SEQUENCE:2
TRANSP:OPAQUE
UID:b1088e16b8d7fefc566017277515c6d1
DTSTART:20250401T190000
DTSTAMP:20250401T124955Z
SUMMARY:Denzel Curry 
DESCRIPTION:
CREATED:20250401T124955Z
URL;VALUE=URI:http://holdmyticket.com/event/440933 

DTEND:20250402T000000
END:VEVENT
END:VCALENDAR