BEGIN:VCALENDAR
METHOD:PUBLISH
X-WR-TIMEZONE:America/Denver
PRODID:-//Hold My Ticket.//HMT Web App//EN
CALSCALE:GREGORIAN
METHOD:PUBLISH
X-WR-CALNAME:The Bridge at Santa Fe Brewing (Indoor)
X-WR-CALDESC:Upcoming events at The Bridge at Santa Fe Brewing (Indoor)
BEGIN:VTIMEZONE
TZID:America/Denver 
END:VTIMEZONE
BEGIN:VEVENT
SEQUENCE:2
TRANSP:OPAQUE
UID:3fbc2d1ef4d21be2bf88e96d0cdf3418
DTSTART:20250221T190000
DTSTAMP:20250218T123223Z
SUMMARY:Grace Bowers & The Hodge Podge  - SOLD OUT 
DESCRIPTION:
CREATED:20250218T123223Z
URL;VALUE=URI:http://holdmyticket.com/event/441045 

DTEND:20250221T220000
END:VEVENT
END:VCALENDAR