BEGIN:VCALENDAR
METHOD:PUBLISH
X-WR-TIMEZONE:America/Denver
PRODID:-//Hold My Ticket.//HMT Web App//EN
CALSCALE:GREGORIAN
METHOD:PUBLISH
X-WR-CALNAME:Sunshine Theater
X-WR-CALDESC:Upcoming events at Sunshine Theater
BEGIN:VTIMEZONE
TZID:America/Denver 
END:VTIMEZONE
BEGIN:VEVENT
SEQUENCE:2
TRANSP:OPAQUE
UID:d5c0934a55553f58e6777de29019224b
DTSTART:20250420T193000
DTSTAMP:20250420T222422Z
SUMMARY:Fozzy 25th Anniversary Tour
DESCRIPTION:* Fozzy * Liliac * The Nocturnal Affair *
25th Anniversary Tour 

Sunday, April 20, 2025
Doors 630pm | Show 730pm
Sunshine Theater
ABQ NM 
all ages 

Advance tickets - $25 + service charge
https://www.facebook.com/events/1550397625673082

NOW ON SALE! 
CREATED:20250420T222422Z
URL;VALUE=URI:http://holdmyticket.com/event/441185 

DTEND:20250420T230000
END:VEVENT
END:VCALENDAR