BEGIN:VCALENDAR
METHOD:PUBLISH
X-WR-TIMEZONE:America/Los_Angeles
PRODID:-//Hold My Ticket.//HMT Web App//EN
CALSCALE:GREGORIAN
METHOD:PUBLISH
X-WR-CALNAME:Winstons
X-WR-CALDESC:Upcoming events at Winstons
BEGIN:VTIMEZONE
TZID:America/Los_Angeles 
END:VTIMEZONE
BEGIN:VEVENT
SEQUENCE:2
TRANSP:OPAQUE
UID:54ab41bcaa2284839494f23979e1f69a
DTSTART:20241213T210000
DTSTAMP:20241213T200710Z
SUMMARY:Thapact &amp; Loopy Lew present the Hiphop Holiday Party. Featuring Ric Scales, Tre Aces, and In Carnations 
DESCRIPTION:
CREATED:20241213T200710Z
URL;VALUE=URI:http://holdmyticket.com/event/441223 

DTEND:20241214T000000
END:VEVENT
END:VCALENDAR