BEGIN:VCALENDAR
METHOD:PUBLISH
X-WR-TIMEZONE:America/Los_Angeles
PRODID:-//Hold My Ticket.//HMT Web App//EN
CALSCALE:GREGORIAN
METHOD:PUBLISH
X-WR-CALNAME:Winstons
X-WR-CALDESC:Upcoming events at Winstons
BEGIN:VTIMEZONE
TZID:America/Los_Angeles 
END:VTIMEZONE
BEGIN:VEVENT
SEQUENCE:2
TRANSP:OPAQUE
UID:44be1e2ebca958be42fd92bec1741237
DTSTART:20250307T203000
DTSTAMP:20250307T210406Z
SUMMARY:The Garcia Project: nationally touring tribute to classic Jerry Garcia Band (Night 2)
DESCRIPTION:
CREATED:20250307T210406Z
URL;VALUE=URI:http://holdmyticket.com/event/441287 

DTEND:20250307T233000
END:VEVENT
END:VCALENDAR