BEGIN:VCALENDAR
METHOD:PUBLISH
X-WR-TIMEZONE:America/Los_Angeles
PRODID:-//Hold My Ticket.//HMT Web App//EN
CALSCALE:GREGORIAN
METHOD:PUBLISH
X-WR-CALNAME:Winstons
X-WR-CALDESC:Upcoming events at Winstons
BEGIN:VTIMEZONE
TZID:America/Los_Angeles 
END:VTIMEZONE
BEGIN:VEVENT
SEQUENCE:2
TRANSP:OPAQUE
UID:259097cf70fb04802fca24e767b33136
DTSTART:20250306T200000
DTSTAMP:20250306T214914Z
SUMMARY:The Garcia Project: nationally touring tribute to classic Jerry Garcia Band (TWO NIGHT PACKAGE) 
DESCRIPTION:
CREATED:20250306T214914Z
URL;VALUE=URI:http://holdmyticket.com/event/441288 

DTEND:20250307T230000
END:VEVENT
END:VCALENDAR