BEGIN:VCALENDAR
METHOD:PUBLISH
X-WR-TIMEZONE:America/Denver
PRODID:-//Hold My Ticket.//HMT Web App//EN
CALSCALE:GREGORIAN
METHOD:PUBLISH
X-WR-CALNAME:Lensic Performing Arts Center 
X-WR-CALDESC:Upcoming events at Lensic Performing Arts Center 
BEGIN:VTIMEZONE
TZID:America/Denver 
END:VTIMEZONE
BEGIN:VEVENT
SEQUENCE:2
TRANSP:OPAQUE
UID:d3d02d3ccd1141dc242a135ba55f74e3
DTSTART:20250513T193000
DTSTAMP:20250512T155724Z
SUMMARY:The War & Treaty
DESCRIPTION:
CREATED:20250512T155724Z
URL;VALUE=URI:http://holdmyticket.com/event/441499 

DTEND:20250513T220000
END:VEVENT
END:VCALENDAR