BEGIN:VCALENDAR
METHOD:PUBLISH
X-WR-TIMEZONE:America/Los_Angeles
PRODID:-//Hold My Ticket.//HMT Web App//EN
CALSCALE:GREGORIAN
METHOD:PUBLISH
X-WR-CALNAME:The Big Dipper
X-WR-CALDESC:Upcoming events at The Big Dipper
BEGIN:VTIMEZONE
TZID:America/Los_Angeles 
END:VTIMEZONE
BEGIN:VEVENT
SEQUENCE:2
TRANSP:OPAQUE
UID:42e25151200f1231fefad6e3da016740
DTSTART:20250125T193000
DTSTAMP:20241203T234912Z
SUMMARY:Better Daze
DESCRIPTION:
CREATED:20241203T234912Z
URL;VALUE=URI:http://holdmyticket.com/event/441505 

DTEND:20250125T221500
END:VEVENT
END:VCALENDAR