BEGIN:VCALENDAR
METHOD:PUBLISH
X-WR-TIMEZONE:America/Denver
PRODID:-//Hold My Ticket.//HMT Web App//EN
CALSCALE:GREGORIAN
METHOD:PUBLISH
X-WR-CALNAME:The Oriental Theater
X-WR-CALDESC:Upcoming events at The Oriental Theater
BEGIN:VTIMEZONE
TZID:America/Denver 
END:VTIMEZONE
BEGIN:VEVENT
SEQUENCE:2
TRANSP:OPAQUE
UID:49c9dc1efdf519fb799780f003235886
DTSTART:20250319T190000
DTSTAMP:20241205T232434Z
SUMMARY:Agnostic Front + Murphy's Law
DESCRIPTION:
CREATED:20241205T232434Z
URL;VALUE=URI:http://holdmyticket.com/event/441589 

DTEND:20250319T230000
END:VEVENT
END:VCALENDAR