BEGIN:VCALENDAR
METHOD:PUBLISH
X-WR-TIMEZONE:America/Denver
PRODID:-//Hold My Ticket.//HMT Web App//EN
CALSCALE:GREGORIAN
METHOD:PUBLISH
X-WR-CALNAME:Twilight Cafe and Bar
X-WR-CALDESC:Upcoming events at Twilight Cafe and Bar
BEGIN:VTIMEZONE
TZID:America/Denver 
END:VTIMEZONE
BEGIN:VEVENT
SEQUENCE:2
TRANSP:OPAQUE
UID:c1cf01ed143596ee1e552931dedc4c9b
DTSTART:20250103T200000
DTSTAMP:20241217T233627Z
SUMMARY:Berator w/ Thrash Course, Any Ghosts, Take Me Instead
DESCRIPTION:
CREATED:20241217T233627Z
URL;VALUE=URI:http://holdmyticket.com/event/442045 

DTEND:20250103T234500
END:VEVENT
END:VCALENDAR