BEGIN:VCALENDAR
METHOD:PUBLISH
X-WR-TIMEZONE:America/Denver
PRODID:-//Hold My Ticket.//HMT Web App//EN
CALSCALE:GREGORIAN
METHOD:PUBLISH
X-WR-CALNAME:Edelweiss Lodge and Spa
X-WR-CALDESC:Upcoming events at Edelweiss Lodge and Spa
BEGIN:VTIMEZONE
TZID:America/Denver 
END:VTIMEZONE
BEGIN:VEVENT
SEQUENCE:2
TRANSP:OPAQUE
UID:07d392b8aa6c952cad4aa0d40028ef60
DTSTART:20250131T143000
DTSTAMP:20250128T192501Z
SUMMARY:Seminar: Burgundy Tasting with Martine's Wines
DESCRIPTION:The tradition returns, we are excited to have Justin Timsit the Director of Sales at Martine's Wines hosting a Burgundy seminar. Justin will show 8 wines from four Burgundian producers from Martine's wines.
CREATED:20250128T192501Z
URL;VALUE=URI:http://holdmyticket.com/event/442066 

DTEND:20250131T153000
END:VEVENT
END:VCALENDAR