BEGIN:VCALENDAR
METHOD:PUBLISH
X-WR-TIMEZONE:America/Chicago
PRODID:-//Hold My Ticket.//HMT Web App//EN
CALSCALE:GREGORIAN
METHOD:PUBLISH
X-WR-CALNAME:The Railhouse
X-WR-CALDESC:Upcoming events at The Railhouse
BEGIN:VTIMEZONE
TZID:America/Chicago 
END:VTIMEZONE
BEGIN:VEVENT
SEQUENCE:2
TRANSP:OPAQUE
UID:ac23996aa69154f4854a5ed4711d4d91
DTSTART:20250205T200000
DTSTAMP:20241219T235141Z
SUMMARY:Kyle Karaoke
DESCRIPTION:
CREATED:20241219T235141Z
URL;VALUE=URI:http://holdmyticket.com/event/442263 

DTEND:20250205T230000
END:VEVENT
END:VCALENDAR