BEGIN:VCALENDAR
METHOD:PUBLISH
X-WR-TIMEZONE:America/Denver
PRODID:-//Hold My Ticket.//HMT Web App//EN
CALSCALE:GREGORIAN
METHOD:PUBLISH
X-WR-CALNAME:Paradiso
X-WR-CALDESC:Upcoming events at Paradiso
BEGIN:VTIMEZONE
TZID:America/Denver 
END:VTIMEZONE
BEGIN:VEVENT
SEQUENCE:2
TRANSP:OPAQUE
UID:978b25035472333bafed534e1ea03663
DTSTART:20250412T193000
DTSTAMP:20250410T100248Z
SUMMARY:Nefesh Mountain
DESCRIPTION:The New York based Progressive Americana group Nefesh Mountain Band has been hailed as one of the formative boundary-pushing ensembles in roots music. The band's creators and dynamic husband and wife team of Eric Lindberg and Doni Zasloff have created a world and sound all their own; blurring the lines between Americana, Bluegrass, Folk, Jazz and Blues with a masterful hand as songwriters, instrumentalists and composers alike. The band, declared "a powerhouse unit" by Rolling Stone and "introspective lyrics and world class musicianship" by American Songwriter, takes the listener on a deeply personal journey that embodies their own wild nature and unbridled free spirits.
CREATED:20250410T100248Z
URL;VALUE=URI:http://holdmyticket.com/event/442561 

DTEND:20250412T220000
END:VEVENT
END:VCALENDAR