BEGIN:VCALENDAR
METHOD:PUBLISH
X-WR-TIMEZONE:America/Denver
PRODID:-//Hold My Ticket.//HMT Web App//EN
CALSCALE:GREGORIAN
METHOD:PUBLISH
X-WR-CALNAME:Tumbleroot Brewery and Distillery
X-WR-CALDESC:Upcoming events at Tumbleroot Brewery and Distillery
BEGIN:VTIMEZONE
TZID:America/Denver 
END:VTIMEZONE
BEGIN:VEVENT
SEQUENCE:2
TRANSP:OPAQUE
UID:b18a9f3a08dc69c8c08084479d460127
DTSTART:20250214T193000
DTSTAMP:20250103T110009Z
SUMMARY:Valentine's Day Barn Dance
DESCRIPTION:
CREATED:20250103T110009Z
URL;VALUE=URI:http://holdmyticket.com/event/442650 

DTEND:20250214T230000
END:VEVENT
END:VCALENDAR