BEGIN:VCALENDAR
METHOD:PUBLISH
X-WR-TIMEZONE:America/Los_Angeles
PRODID:-//Hold My Ticket.//HMT Web App//EN
CALSCALE:GREGORIAN
METHOD:PUBLISH
X-WR-CALNAME:Twilight Cafe & Bar
X-WR-CALDESC:Upcoming events at Twilight Cafe & Bar
BEGIN:VTIMEZONE
TZID:America/Los_Angeles 
END:VTIMEZONE
BEGIN:VEVENT
SEQUENCE:2
TRANSP:OPAQUE
UID:6554e43cedaa52cc2855de860feef710
DTSTART:20250301T203000
DTSTAMP:20250219T143536Z
SUMMARY:CONSERVATIVE MILITARY IMAGE
DESCRIPTION:21+ / $15 ADV - $20 DOS / 8PM DOORS
CREATED:20250219T143536Z
URL;VALUE=URI:http://holdmyticket.com/event/442919 

DTEND:20250301T233000
END:VEVENT
END:VCALENDAR