BEGIN:VCALENDAR
METHOD:PUBLISH
X-WR-TIMEZONE:America/New_York
PRODID:-//Hold My Ticket.//HMT Web App//EN
CALSCALE:GREGORIAN
METHOD:PUBLISH
X-WR-CALNAME:Terra Fermata
X-WR-CALDESC:Upcoming events at Terra Fermata
BEGIN:VTIMEZONE
TZID:America/New_York 
END:VTIMEZONE
BEGIN:VEVENT
SEQUENCE:2
TRANSP:OPAQUE
UID:d1003df1f1eff01becd7b6e2c7b5f030
DTSTART:20250225T190000
DTSTAMP:20250107T112559Z
SUMMARY:STONYVIBEZ OPEN MIC/JAM
DESCRIPTION:Hosted by Cody "Stony" Moral. All skill levels and musical genres are welcome. All Ages, All Outdoors, All fun. NO COVER CHARGE.
CREATED:20250107T112559Z
URL;VALUE=URI:http://holdmyticket.com/event/442971 

DTEND:20250225T220000
END:VEVENT
END:VCALENDAR