BEGIN:VCALENDAR
METHOD:PUBLISH
X-WR-TIMEZONE:America/Denver
PRODID:-//Hold My Ticket.//HMT Web App//EN
CALSCALE:GREGORIAN
METHOD:PUBLISH
X-WR-CALNAME:The Oriental Theater
X-WR-CALDESC:Upcoming events at The Oriental Theater
BEGIN:VTIMEZONE
TZID:America/Denver 
END:VTIMEZONE
BEGIN:VEVENT
SEQUENCE:2
TRANSP:OPAQUE
UID:ea44dcaa3322a5aa6bd325df88d42414
DTSTART:20250307T200000
DTSTAMP:20250304T115632Z
SUMMARY:Lucha Libre &amp; Laughs: Potatoes **SOLD OUT**
DESCRIPTION:
CREATED:20250304T115632Z
URL;VALUE=URI:http://holdmyticket.com/event/443008 

DTEND:20250307T223000
END:VEVENT
END:VCALENDAR