BEGIN:VCALENDAR
METHOD:PUBLISH
X-WR-TIMEZONE:America/Denver
PRODID:-//Hold My Ticket.//HMT Web App//EN
CALSCALE:GREGORIAN
METHOD:PUBLISH
X-WR-CALNAME:The Bridge at Santa Fe Brewing (Indoor)
X-WR-CALDESC:Upcoming events at The Bridge at Santa Fe Brewing (Indoor)
BEGIN:VTIMEZONE
TZID:America/Denver 
END:VTIMEZONE
BEGIN:VEVENT
SEQUENCE:2
TRANSP:OPAQUE
UID:e609cbffb6412a66a7a78d7b940beb61
DTSTART:20250222T193000
DTSTAMP:20250215T172727Z
SUMMARY:Detroit Lightning - 60s Night
DESCRIPTION:
CREATED:20250215T172727Z
URL;VALUE=URI:http://holdmyticket.com/event/443096 

DTEND:20250222T230000
END:VEVENT
END:VCALENDAR