BEGIN:VCALENDAR
METHOD:PUBLISH
X-WR-TIMEZONE:America/Denver
PRODID:-//Hold My Ticket.//HMT Web App//EN
CALSCALE:GREGORIAN
METHOD:PUBLISH
X-WR-CALNAME:The Bridge at Santa Fe Brewing (Indoor)
X-WR-CALDESC:Upcoming events at The Bridge at Santa Fe Brewing (Indoor)
BEGIN:VTIMEZONE
TZID:America/Denver 
END:VTIMEZONE
BEGIN:VEVENT
SEQUENCE:2
TRANSP:OPAQUE
UID:e138941707975345b767c96ed21bb67b
DTSTART:20250314T193000
DTSTAMP:20250313T140440Z
SUMMARY:Detroit Lightning - 70s Night
DESCRIPTION:
CREATED:20250313T140440Z
URL;VALUE=URI:http://holdmyticket.com/event/443097 

DTEND:20250314T230000
END:VEVENT
END:VCALENDAR