BEGIN:VCALENDAR
METHOD:PUBLISH
X-WR-TIMEZONE:America/Denver
PRODID:-//Hold My Ticket.//HMT Web App//EN
CALSCALE:GREGORIAN
METHOD:PUBLISH
X-WR-CALNAME:The Bridge at Santa Fe Brewing (Indoor)
X-WR-CALDESC:Upcoming events at The Bridge at Santa Fe Brewing (Indoor)
BEGIN:VTIMEZONE
TZID:America/Denver 
END:VTIMEZONE
BEGIN:VEVENT
SEQUENCE:2
TRANSP:OPAQUE
UID:4dc318eef77608dfa532a6a9e9e6a097
DTSTART:20250412T193000
DTSTAMP:20250410T100306Z
SUMMARY:Detroit Lightning - 80s Night
DESCRIPTION:
CREATED:20250410T100306Z
URL;VALUE=URI:http://holdmyticket.com/event/443098 

DTEND:20250412T230000
END:VEVENT
END:VCALENDAR