BEGIN:VCALENDAR
METHOD:PUBLISH
X-WR-TIMEZONE:America/Chicago
PRODID:-//Hold My Ticket.//HMT Web App//EN
CALSCALE:GREGORIAN
METHOD:PUBLISH
X-WR-CALNAME:Whiskey River Country
X-WR-CALDESC:Upcoming events at Whiskey River Country
BEGIN:VTIMEZONE
TZID:America/Chicago 
END:VTIMEZONE
BEGIN:VEVENT
SEQUENCE:2
TRANSP:OPAQUE
UID:7ce536f45bb8bea1d0645204b2b8e369
DTSTART:20250118T210000
DTSTAMP:20250114T211606Z
SUMMARY:Beaux Jenkins and the .357's
DESCRIPTION:
CREATED:20250114T211606Z
URL;VALUE=URI:http://holdmyticket.com/event/443125 

DTEND:20250119T030000
END:VEVENT
END:VCALENDAR