BEGIN:VCALENDAR
METHOD:PUBLISH
X-WR-TIMEZONE:America/Denver
PRODID:-//Hold My Ticket.//HMT Web App//EN
CALSCALE:GREGORIAN
METHOD:PUBLISH
X-WR-CALNAME:Guild Cinema
X-WR-CALDESC:Upcoming events at Guild Cinema
BEGIN:VTIMEZONE
TZID:America/Denver 
END:VTIMEZONE
BEGIN:VEVENT
SEQUENCE:2
TRANSP:OPAQUE
UID:956db90ad97c5fb2f87316a642d287a9
DTSTART:20250216T130000
DTSTAMP:20250214T181410Z
SUMMARY:Music and Culture in Sardinia
DESCRIPTION:We had such a good time with Kristina Jacobsen, Diego Pani and the UNM Cuncurdo Monte Sandria at Bookworks that we wanted to continue exploring the music and culture of Sardinia in more depth.  Please joins us for a cool afternoon program at The Guild featuring songs from UNM's Sardinian vocal ensemble Cuncordu Monte Sindria, screenings of two short documentaries and a Q&amp;A with the directors.
CREATED:20250214T181410Z
URL;VALUE=URI:http://holdmyticket.com/event/443131 

DTEND:20250216T180000
END:VEVENT
END:VCALENDAR