BEGIN:VCALENDAR
METHOD:PUBLISH
X-WR-TIMEZONE:America/Los_Angeles
PRODID:-//Hold My Ticket.//HMT Web App//EN
CALSCALE:GREGORIAN
METHOD:PUBLISH
X-WR-CALNAME:Dante's
X-WR-CALDESC:Upcoming events at Dante's
BEGIN:VTIMEZONE
TZID:America/Los_Angeles 
END:VTIMEZONE
BEGIN:VEVENT
SEQUENCE:2
TRANSP:OPAQUE
UID:4d14b138ec15478d4de1bb10e9431fca
DTSTART:20250412T190000
DTSTAMP:20250220T153226Z
SUMMARY:THE BROWNING
DESCRIPTION:21+ / $20 ADV - $25 DOS / 6PM DOORS
CREATED:20250220T153226Z
URL;VALUE=URI:http://holdmyticket.com/event/443162 

DTEND:20250412T230000
END:VEVENT
END:VCALENDAR