BEGIN:VCALENDAR
METHOD:PUBLISH
X-WR-TIMEZONE:America/Denver
PRODID:-//Hold My Ticket.//HMT Web App//EN
CALSCALE:GREGORIAN
METHOD:PUBLISH
X-WR-CALNAME:The Box Performance Space
X-WR-CALDESC:Upcoming events at The Box Performance Space
BEGIN:VTIMEZONE
TZID:America/Denver 
END:VTIMEZONE
BEGIN:VEVENT
SEQUENCE:2
TRANSP:OPAQUE
UID:0e432055541f382f0b2dc1e542b0e45e
DTSTART:20250208T213000
DTSTAMP:20250112T220157Z
SUMMARY:Ahhlmaa's AAA Cabaret
DESCRIPTION:
CREATED:20250112T220157Z
URL;VALUE=URI:http://holdmyticket.com/event/443184 

DTEND:20250208T231500
END:VEVENT
END:VCALENDAR