BEGIN:VCALENDAR
METHOD:PUBLISH
X-WR-TIMEZONE:America/Denver
PRODID:-//Hold My Ticket.//HMT Web App//EN
CALSCALE:GREGORIAN
METHOD:PUBLISH
X-WR-CALNAME:Juno Brewery
X-WR-CALDESC:Upcoming events at Juno Brewery
BEGIN:VTIMEZONE
TZID:America/Denver 
END:VTIMEZONE
BEGIN:VEVENT
SEQUENCE:2
TRANSP:OPAQUE
UID:ddc1f26f09d3baa2e121a4ba6a352b68
DTSTART:20250409T200000
DTSTAMP:20250409T190008Z
SUMMARY:Vision Video * Future Club * Somno Profundante * DJ K.0ss
DESCRIPTION:* Vision Video * Future Club * Somno Profundante * DJ K.0ss *

Wednesday, April 9, 2025
Doors 7pm | Show 8pm
Juno Brewery 
ABQ NM 
21+

Advance tickets - $20 + service charge
https://www.facebook.com/events/494867166569683

NOW ON SALE! 
CREATED:20250409T190008Z
URL;VALUE=URI:http://holdmyticket.com/event/443229 

DTEND:20250409T230000
END:VEVENT
END:VCALENDAR