BEGIN:VCALENDAR
METHOD:PUBLISH
X-WR-TIMEZONE:America/Denver
PRODID:-//Hold My Ticket.//HMT Web App//EN
CALSCALE:GREGORIAN
METHOD:PUBLISH
X-WR-CALNAME:Tumbleroot Brewery & Distillery 
X-WR-CALDESC:Upcoming events at Tumbleroot Brewery & Distillery 
BEGIN:VTIMEZONE
TZID:America/Denver 
END:VTIMEZONE
BEGIN:VEVENT
SEQUENCE:2
TRANSP:OPAQUE
UID:15b92996cbef6553b99384cc16323c45
DTSTART:20250614T193000
DTSTAMP:20250202T145846Z
SUMMARY:EL BAILE DE CLUB ALEGRIA 
DESCRIPTION:
CREATED:20250202T145846Z
URL;VALUE=URI:http://holdmyticket.com/event/443292 

DTEND:20250614T230000
END:VEVENT
END:VCALENDAR