BEGIN:VCALENDAR
METHOD:PUBLISH
X-WR-TIMEZONE:America/Denver
PRODID:-//Hold My Ticket.//HMT Web App//EN
CALSCALE:GREGORIAN
METHOD:PUBLISH
X-WR-CALNAME:Buffalo Rose
X-WR-CALDESC:Upcoming events at Buffalo Rose
BEGIN:VTIMEZONE
TZID:America/Denver 
END:VTIMEZONE
BEGIN:VEVENT
SEQUENCE:2
TRANSP:OPAQUE
UID:762e1135119c0ee20f4899e0a5496f82
DTSTART:20250422T183000
DTSTAMP:20250410T100836Z
SUMMARY:Whiskey on Washington
DESCRIPTION:Whiskey on Washington is unforgettable evening of uniquely delicious whiskey and food pairings co-created by master distillers from Colorado's own Breckenridge Distillery and Executive Chef Chris Zekos of Golden's iconic Buffalo Rose.
CREATED:20250410T100836Z
URL;VALUE=URI:http://holdmyticket.com/event/443430 

DTEND:20250422T210000
END:VEVENT
END:VCALENDAR