BEGIN:VCALENDAR
METHOD:PUBLISH
X-WR-TIMEZONE:America/Denver
PRODID:-//Hold My Ticket.//HMT Web App//EN
CALSCALE:GREGORIAN
METHOD:PUBLISH
X-WR-CALNAME:The Oriental Theater
X-WR-CALDESC:Upcoming events at The Oriental Theater
BEGIN:VTIMEZONE
TZID:America/Denver 
END:VTIMEZONE
BEGIN:VEVENT
SEQUENCE:2
TRANSP:OPAQUE
UID:2aa0dc41ca21d357f596e01cf52ca31f
DTSTART:20250315T190000
DTSTAMP:20250314T090715Z
SUMMARY:Lilith Fair Tribute 2025!
DESCRIPTION:
CREATED:20250314T090715Z
URL;VALUE=URI:http://holdmyticket.com/event/443505 

DTEND:20250315T224500
END:VEVENT
END:VCALENDAR