BEGIN:VCALENDAR
METHOD:PUBLISH
X-WR-TIMEZONE:America/New_York
PRODID:-//Hold My Ticket.//HMT Web App//EN
CALSCALE:GREGORIAN
METHOD:PUBLISH
X-WR-CALNAME:Terra Fermata
X-WR-CALDESC:Upcoming events at Terra Fermata
BEGIN:VTIMEZONE
TZID:America/New_York 
END:VTIMEZONE
BEGIN:VEVENT
SEQUENCE:2
TRANSP:OPAQUE
UID:edb7036f067c63e522dca7a1530976bd
DTSTART:20250308T133000
DTSTAMP:20250308T125817Z
SUMMARY:GUAVA FEST featuring GUAVATRON X2
DESCRIPTION:Advance tickets $20-25, $30 door. 1:30pm-11:30pm. with Tru Phonic, Spred The Dub, Low Ground, Kid Barret, Ambique, DJ Crovv and Artists-at-large Rodney Hansen and Brock Butler.

Indulge in guava-themed foods, unique vendors, and cap off the night with Silent Sircus, a late-night silent disco!

VIP Table for 6: $350 (includes reserved seating under the large tent, 6 commemorative lanyards, 6 signed posters, 6 chaser waters, 6 stickers).
CREATED:20250308T125817Z
URL;VALUE=URI:http://holdmyticket.com/event/443535 

DTEND:20250308T233000
END:VEVENT
END:VCALENDAR