BEGIN:VCALENDAR
METHOD:PUBLISH
X-WR-TIMEZONE:America/Los_Angeles
PRODID:-//Hold My Ticket.//HMT Web App//EN
CALSCALE:GREGORIAN
METHOD:PUBLISH
X-WR-CALNAME:Winstons
X-WR-CALDESC:Upcoming events at Winstons
BEGIN:VTIMEZONE
TZID:America/Los_Angeles 
END:VTIMEZONE
BEGIN:VEVENT
SEQUENCE:2
TRANSP:OPAQUE
UID:0ff36c18f83714b505888bef8af5be91
DTSTART:20250124T210000
DTSTAMP:20250124T221131Z
SUMMARY:SANDOLLAR- Soulplant - Live art w/ Krystal Dyer 
DESCRIPTION:
CREATED:20250124T221131Z
URL;VALUE=URI:http://holdmyticket.com/event/443572 

DTEND:20250125T000000
END:VEVENT
END:VCALENDAR