BEGIN:VCALENDAR
METHOD:PUBLISH
X-WR-TIMEZONE:America/Denver
PRODID:-//Hold My Ticket.//HMT Web App//EN
CALSCALE:GREGORIAN
METHOD:PUBLISH
X-WR-CALNAME:HQ
X-WR-CALDESC:Upcoming events at HQ
BEGIN:VTIMEZONE
TZID:America/Denver 
END:VTIMEZONE
BEGIN:VEVENT
SEQUENCE:2
TRANSP:OPAQUE
UID:2e5a597f668f05b0ce1aac118543207d
DTSTART:20250524T200000
DTSTAMP:20250122T223414Z
SUMMARY:Frontside Five + Stalag 13
DESCRIPTION:
CREATED:20250122T223414Z
URL;VALUE=URI:http://holdmyticket.com/event/443615 

DTEND:20250524T233000
END:VEVENT
END:VCALENDAR