BEGIN:VCALENDAR
METHOD:PUBLISH
X-WR-TIMEZONE:America/Denver
PRODID:-//Hold My Ticket.//HMT Web App//EN
CALSCALE:GREGORIAN
METHOD:PUBLISH
X-WR-CALNAME:Meow Wolf
X-WR-CALDESC:Upcoming events at Meow Wolf
BEGIN:VTIMEZONE
TZID:America/Denver 
END:VTIMEZONE
BEGIN:VEVENT
SEQUENCE:2
TRANSP:OPAQUE
UID:4e26fb0a729f795becf1f2fae2261c41
DTSTART:20250429T200000
DTSTAMP:20250327T135857Z
SUMMARY:La Luz
DESCRIPTION:
CREATED:20250327T135857Z
URL;VALUE=URI:http://holdmyticket.com/event/443664 

DTEND:20250429T220000
END:VEVENT
END:VCALENDAR