BEGIN:VCALENDAR
METHOD:PUBLISH
X-WR-TIMEZONE:America/Denver
PRODID:-//Hold My Ticket.//HMT Web App//EN
CALSCALE:GREGORIAN
METHOD:PUBLISH
X-WR-CALNAME:The Oriental Theater
X-WR-CALDESC:Upcoming events at The Oriental Theater
BEGIN:VTIMEZONE
TZID:America/Denver 
END:VTIMEZONE
BEGIN:VEVENT
SEQUENCE:2
TRANSP:OPAQUE
UID:82b2af013142a818896bf21a72547a51
DTSTART:20250501T190000
DTSTAMP:20250323T184734Z
SUMMARY:L.S. Dunes
DESCRIPTION:
CREATED:20250323T184734Z
URL;VALUE=URI:http://holdmyticket.com/event/443675 

DTEND:20250501T230000
END:VEVENT
END:VCALENDAR