BEGIN:VCALENDAR
METHOD:PUBLISH
X-WR-TIMEZONE:America/Denver
PRODID:-//Hold My Ticket.//HMT Web App//EN
CALSCALE:GREGORIAN
METHOD:PUBLISH
X-WR-CALNAME:Lensic Performing Arts Center 
X-WR-CALDESC:Upcoming events at Lensic Performing Arts Center 
BEGIN:VTIMEZONE
TZID:America/Denver 
END:VTIMEZONE
BEGIN:VEVENT
SEQUENCE:2
TRANSP:OPAQUE
UID:8f80dc09127b4b72b16cfb1aa6dfa89e
DTSTART:20250617T193000
DTSTAMP:20250616T110836Z
SUMMARY:Punch Brothers - SOLD OUT
DESCRIPTION:
CREATED:20250616T110836Z
URL;VALUE=URI:http://holdmyticket.com/event/444040 

DTEND:20250617T220000
END:VEVENT
END:VCALENDAR