BEGIN:VCALENDAR
METHOD:PUBLISH
X-WR-TIMEZONE:America/Denver
PRODID:-//Hold My Ticket.//HMT Web App//EN
CALSCALE:GREGORIAN
METHOD:PUBLISH
X-WR-CALNAME:The Oriental Theater
X-WR-CALDESC:Upcoming events at The Oriental Theater
BEGIN:VTIMEZONE
TZID:America/Denver 
END:VTIMEZONE
BEGIN:VEVENT
SEQUENCE:2
TRANSP:OPAQUE
UID:88e76cc6ffc89b2c2272b373c6d24a0d
DTSTART:20250429T200000
DTSTAMP:20250417T183417Z
SUMMARY:Dorothy: The Redemption Tour
DESCRIPTION:
CREATED:20250417T183417Z
URL;VALUE=URI:http://holdmyticket.com/event/444064 

DTEND:20250429T230000
END:VEVENT
END:VCALENDAR