BEGIN:VCALENDAR
METHOD:PUBLISH
X-WR-TIMEZONE:America/Denver
PRODID:-//Hold My Ticket.//HMT Web App//EN
CALSCALE:GREGORIAN
METHOD:PUBLISH
X-WR-CALNAME:The Box Performance Space
X-WR-CALDESC:Upcoming events at The Box Performance Space
BEGIN:VTIMEZONE
TZID:America/Denver 
END:VTIMEZONE
BEGIN:VEVENT
SEQUENCE:2
TRANSP:OPAQUE
UID:05b398a82be6e4b61b957f43d67a573b
DTSTART:20250301T180000
DTSTAMP:20250227T171228Z
SUMMARY:Closeline
DESCRIPTION:
CREATED:20250227T171228Z
URL;VALUE=URI:http://holdmyticket.com/event/444140 

DTEND:20250301T184500
END:VEVENT
END:VCALENDAR