BEGIN:VCALENDAR
METHOD:PUBLISH
X-WR-TIMEZONE:America/Denver
PRODID:-//Hold My Ticket.//HMT Web App//EN
CALSCALE:GREGORIAN
METHOD:PUBLISH
X-WR-CALNAME:The Box Performance Space
X-WR-CALDESC:Upcoming events at The Box Performance Space
BEGIN:VTIMEZONE
TZID:America/Denver 
END:VTIMEZONE
BEGIN:VEVENT
SEQUENCE:2
TRANSP:OPAQUE
UID:f796fe5ea117f4d0f0d8dcb391578140
DTSTART:20250222T211500
DTSTAMP:20250131T122341Z
SUMMARY:The One Night Stanleys
DESCRIPTION:
CREATED:20250131T122341Z
URL;VALUE=URI:http://holdmyticket.com/event/444143 

DTEND:20250222T220000
END:VEVENT
END:VCALENDAR