BEGIN:VCALENDAR
METHOD:PUBLISH
X-WR-TIMEZONE:America/New_York
PRODID:-//Hold My Ticket.//HMT Web App//EN
CALSCALE:GREGORIAN
METHOD:PUBLISH
X-WR-CALNAME:Thirsty Cowboy
X-WR-CALDESC:Upcoming events at Thirsty Cowboy
BEGIN:VTIMEZONE
TZID:America/New_York 
END:VTIMEZONE
BEGIN:VEVENT
SEQUENCE:2
TRANSP:OPAQUE
UID:e5f644ec640421b3f0df59e42300ee60
DTSTART:20250412T220000
DTSTAMP:20250408T071939Z
SUMMARY:THOMAS MAC 
DESCRIPTION:Thomas Mac moved to Nashville from his hometown of Beaver Creek, OH when he was just 20 years old to go all in and pursue his dreams in music.  Since then, he has entertained his fans with his diverse songwriting and captivating personality.  Thomas was one of the first to unleash the true power of social media to connect with fans and has amassed over 6 million followers across all platforms.  Drawing influence from some of his musical heroes like Toby Keith, Elvis, Brad Paisley, and Johnny Cash, Thomas has the ability to make a listener laugh one moment and then pull at their heart the next. 

CREATED:20250408T071939Z
URL;VALUE=URI:http://holdmyticket.com/event/444317 

DTEND:20250413T013000
END:VEVENT
END:VCALENDAR