BEGIN:VCALENDAR
METHOD:PUBLISH
X-WR-TIMEZONE:America/Denver
PRODID:-//Hold My Ticket.//HMT Web App//EN
CALSCALE:GREGORIAN
METHOD:PUBLISH
X-WR-CALNAME:Launchpad
X-WR-CALDESC:Upcoming events at Launchpad
BEGIN:VTIMEZONE
TZID:America/Denver 
END:VTIMEZONE
BEGIN:VEVENT
SEQUENCE:2
TRANSP:OPAQUE
UID:94b3004829063158f6631779655e3ab9
DTSTART:20250602T200000
DTSTAMP:20250602T221602Z
SUMMARY:Games We Play - Hello Ladies Tour
DESCRIPTION:* Games We Play * The Paradox *
Hello Ladies Tour
Monday, June 2, 2025
Doors 7pm | Show 8pm
Launchpad
ABQ NM
all ages

Advance tickets - $20 + service charge
https://www.facebook.com/events/2536051430075983

NOW ON SALE! 
CREATED:20250602T221602Z
URL;VALUE=URI:http://holdmyticket.com/event/444434 

DTEND:20250602T230000
END:VEVENT
END:VCALENDAR