BEGIN:VCALENDAR
METHOD:PUBLISH
X-WR-TIMEZONE:Pacific/Honolulu
PRODID:-//Hold My Ticket.//HMT Web App//EN
CALSCALE:GREGORIAN
METHOD:PUBLISH
X-WR-CALNAME:Uncle Robert's Awa Bar
X-WR-CALDESC:Upcoming events at Uncle Robert's Awa Bar
BEGIN:VTIMEZONE
TZID:Pacific/Honolulu 
END:VTIMEZONE
BEGIN:VEVENT
SEQUENCE:2
TRANSP:OPAQUE
UID:a6bb7166eaf66c43b6c0fd47c9ad85b1
DTSTART:20250302T200000
DTSTAMP:20250302T201308Z
SUMMARY:Grammy Award Winner Black Uhuru
DESCRIPTION:Uncle Robert's Presents
Grammy Award Winner Black Uhuru 
with Special Guest Awa Band
CREATED:20250302T201308Z
URL;VALUE=URI:http://holdmyticket.com/event/444488 

DTEND:20250303T000000
END:VEVENT
END:VCALENDAR