BEGIN:VCALENDAR
METHOD:PUBLISH
X-WR-TIMEZONE:America/Denver
PRODID:-//Hold My Ticket.//HMT Web App//EN
CALSCALE:GREGORIAN
METHOD:PUBLISH
X-WR-CALNAME:Meow Wolf
X-WR-CALDESC:Upcoming events at Meow Wolf
BEGIN:VTIMEZONE
TZID:America/Denver 
END:VTIMEZONE
BEGIN:VEVENT
SEQUENCE:2
TRANSP:OPAQUE
UID:f93cd14bada65ab80440d3a8413f3366
DTSTART:20250422T200000
DTSTAMP:20250211T152555Z
SUMMARY:Black Mountain
DESCRIPTION:
CREATED:20250211T152555Z
URL;VALUE=URI:http://holdmyticket.com/event/444524 

DTEND:20250422T230000
END:VEVENT
END:VCALENDAR