BEGIN:VCALENDAR
METHOD:PUBLISH
X-WR-TIMEZONE:America/Denver
PRODID:-//Hold My Ticket.//HMT Web App//EN
CALSCALE:GREGORIAN
METHOD:PUBLISH
X-WR-CALNAME:Buffalo Rose
X-WR-CALDESC:Upcoming events at Buffalo Rose
BEGIN:VTIMEZONE
TZID:America/Denver 
END:VTIMEZONE
BEGIN:VEVENT
SEQUENCE:2
TRANSP:OPAQUE
UID:83b6629059a43de3ff80b37527e9d908
DTSTART:20250425T190000
DTSTAMP:20250401T181719Z
SUMMARY:Bullet the Blue Sky &amp; ColdReplay
DESCRIPTION:
CREATED:20250401T181719Z
URL;VALUE=URI:http://holdmyticket.com/event/444762 

DTEND:20250425T220000
END:VEVENT
END:VCALENDAR