BEGIN:VCALENDAR
METHOD:PUBLISH
X-WR-TIMEZONE:America/Los_Angeles
PRODID:-//Hold My Ticket.//HMT Web App//EN
CALSCALE:GREGORIAN
METHOD:PUBLISH
X-WR-CALNAME:Winstons
X-WR-CALDESC:Upcoming events at Winstons
BEGIN:VTIMEZONE
TZID:America/Los_Angeles 
END:VTIMEZONE
BEGIN:VEVENT
SEQUENCE:2
TRANSP:OPAQUE
UID:dc0716938253267dbf47184ba21ed079
DTSTART:20250529T203000
DTSTAMP:20250402T103718Z
SUMMARY:Mike Pinto and Divina of Boostive 
DESCRIPTION:
CREATED:20250402T103718Z
URL;VALUE=URI:http://holdmyticket.com/event/444774 

DTEND:20250529T233000
END:VEVENT
END:VCALENDAR