BEGIN:VCALENDAR
METHOD:PUBLISH
X-WR-TIMEZONE:America/Denver
PRODID:-//Hold My Ticket.//HMT Web App//EN
CALSCALE:GREGORIAN
METHOD:PUBLISH
X-WR-CALNAME:TourABQ
X-WR-CALDESC:Upcoming events at TourABQ
BEGIN:VTIMEZONE
TZID:America/Denver 
END:VTIMEZONE
BEGIN:VEVENT
SEQUENCE:2
TRANSP:OPAQUE
UID:2cb7e25b5682d27a84d6fa2e94a7d374
DTSTART:20250723T100000
DTSTAMP:20250623T123557Z
SUMMARY:ABQ Trolley Co. | Best of ABQ City Tour
DESCRIPTION:
CREATED:20250623T123557Z
URL;VALUE=URI:http://holdmyticket.com/event/444934 

DTEND:20250723T114500
END:VEVENT
END:VCALENDAR