BEGIN:VCALENDAR
METHOD:PUBLISH
X-WR-TIMEZONE:America/Denver
PRODID:-//Hold My Ticket.//HMT Web App//EN
CALSCALE:GREGORIAN
METHOD:PUBLISH
X-WR-CALNAME:Rockhouse Bar & Grill 
X-WR-CALDESC:Upcoming events at Rockhouse Bar & Grill 
BEGIN:VTIMEZONE
TZID:America/Denver 
END:VTIMEZONE
BEGIN:VEVENT
SEQUENCE:2
TRANSP:OPAQUE
UID:ee7bcea8c18da3b597667646fceda8ea
DTSTART:20250623T190000
DTSTAMP:20250623T123557Z
SUMMARY:LORDS OF ACID
DESCRIPTION:
CREATED:20250623T123557Z
URL;VALUE=URI:http://holdmyticket.com/event/445131 

DTEND:20250623T234500
END:VEVENT
END:VCALENDAR