BEGIN:VCALENDAR
METHOD:PUBLISH
X-WR-TIMEZONE:America/Denver
PRODID:-//Hold My Ticket.//HMT Web App//EN
CALSCALE:GREGORIAN
METHOD:PUBLISH
X-WR-CALNAME:El Rey Main Floor.
X-WR-CALDESC:Upcoming events at El Rey Main Floor.
BEGIN:VTIMEZONE
TZID:America/Denver 
END:VTIMEZONE
BEGIN:VEVENT
SEQUENCE:2
TRANSP:OPAQUE
UID:f211500dfc26b5b6d022c6f7d47b6eda
DTSTART:20250502T200000
DTSTAMP:20250501T115900Z
SUMMARY:Third Shift Media Presents
DESCRIPTION:
CREATED:20250501T115900Z
URL;VALUE=URI:http://holdmyticket.com/event/445734 

DTEND:20250502T234500
END:VEVENT
END:VCALENDAR