BEGIN:VCALENDAR
METHOD:PUBLISH
X-WR-TIMEZONE:America/Denver
PRODID:-//Hold My Ticket.//HMT Web App//EN
CALSCALE:GREGORIAN
METHOD:PUBLISH
X-WR-CALNAME:KiMo Theatre
X-WR-CALDESC:Upcoming events at KiMo Theatre
BEGIN:VTIMEZONE
TZID:America/Denver 
END:VTIMEZONE
BEGIN:VEVENT
SEQUENCE:2
TRANSP:OPAQUE
UID:77e23a7df2dad954f768a7075b5489f1
DTSTART:20250515T180000
DTSTAMP:20250303T213856Z
SUMMARY:Joe Abercrombie
DESCRIPTION:In partnership with the Albuquerque Public Library Foundation and AMP Concerts, Bookworks is delighted to welcome Joe Abercrombie on tour for his new book, The Devils. Mr. Abercrombie will be in conversation with George R.R. Martin. Doors open at 5, event starts at 6. A portion of the proceeds will go to support the Albuquerque Public Library Foundation.
CREATED:20250303T213856Z
URL;VALUE=URI:http://holdmyticket.com/event/445847 

DTEND:20250515T210000
END:VEVENT
END:VCALENDAR