BEGIN:VCALENDAR
METHOD:PUBLISH
X-WR-TIMEZONE:America/Chicago
PRODID:-//Hold My Ticket.//HMT Web App//EN
CALSCALE:GREGORIAN
METHOD:PUBLISH
X-WR-CALNAME:Luckenbach Texas
X-WR-CALDESC:Upcoming events at Luckenbach Texas
BEGIN:VTIMEZONE
TZID:America/Chicago 
END:VTIMEZONE
BEGIN:VEVENT
SEQUENCE:2
TRANSP:OPAQUE
UID:357b40d72f90e28f20402a32df2cb7e4
DTSTART:20260425T130000
DTSTAMP:20260325T125201Z
SUMMARY:10,000 Bees (duo)
DESCRIPTION:
CREATED:20260325T125201Z
URL;VALUE=URI:http://holdmyticket.com/event/445897 

DTEND:20260425T170000
END:VEVENT
END:VCALENDAR